BEGIN:VCALENDAR
VERSION:2.0
PRODID:-//Sveriges Akademiska Idrottsförbund - ECPv6.15.13.1//NONSGML v1.0//EN
CALSCALE:GREGORIAN
METHOD:PUBLISH
X-WR-CALNAME:Sveriges Akademiska Idrottsförbund
X-ORIGINAL-URL:https://studentidrott.se
X-WR-CALDESC:Händelser för Sveriges Akademiska Idrottsförbund
REFRESH-INTERVAL;VALUE=DURATION:PT1H
X-Robots-Tag:noindex
X-PUBLISHED-TTL:PT1H
BEGIN:VTIMEZONE
TZID:UTC
BEGIN:STANDARD
TZOFFSETFROM:+0000
TZOFFSETTO:+0000
TZNAME:UTC
DTSTART:20250101T000000
END:STANDARD
END:VTIMEZONE
BEGIN:VEVENT
DTSTART;TZID=UTC:20260824T000000
DTEND;TZID=UTC:20260828T233000
DTSTAMP:20260423T222932
CREATED:20260219T125212Z
LAST-MODIFIED:20260219T125212Z
UID:8783-1787529600-1787959800@studentidrott.se
SUMMARY:FISU World Forum!
DESCRIPTION:Östersund redo att välkomna världen – FISU World Forum tar form i Sverige.\nI augusti 2026 samlas internationella aktörer i Östersund när Mittuniversitetet\, tillsammans med Sveriges Akademiska Idrottsförbund\, Östersunds kommun och regionen\, står värd för FISU World Forum. Under fem dagar sätts fokus på framtidens studentidrott\, hälsa och hur universitet globalt kan skapa starkare och mer hållbara miljöer för både studier och idrott. Forumet erbjuder föreläsningar\, workshops\, kulturutbyten och möten som inspirerar till utveckling och samverkan över nationsgränser. \n  \nMer information om forumet – hittar du här \n  \n 
URL:https://studentidrott.se/event/fisu-world-forum/
ATTACH;FMTTYPE=image/jpeg:https://media.studentidrott.se/2024/09/FISU_Forum_fair_Tetra_studio-75.jpg
END:VEVENT
BEGIN:VEVENT
DTSTART;TZID=UTC:20260825T000000
DTEND;TZID=UTC:20260825T233000
DTSTAMP:20260423T222932
CREATED:20260219T124325Z
LAST-MODIFIED:20260219T124325Z
UID:8780-1787616000-1787700600@studentidrott.se
SUMMARY:Sista dagen att skicka in LOK-stöds ansökan!
DESCRIPTION:LOK-stöd (statligt lokalt aktivitetsstöd) är ett ekonomiskt stöd som idrottsföreningar kan söka via Riksidrottsförbundet för att stödja föreningsdriven verksamhet för barn\, ungdomar och unga vuxna mellan 6–25 år. Stödet söks i IdrottOnline\, och 25 augusti 2026 är sista dag för att skicka in ansökan för aktiviteterna under VT26. \nSe till att era aktiviteter är digitalt närvaroregistrerade och att behöriga i föreningen (ordförande\, kassör eller LOK-stödsansvarig) har koll på processen och deadline så att ansökan blir korrekt och skickas in i tid. \nMer information om LOK-stöd – hittar ni här \nBehöver ni hjälp mer er ansökan – kontakta maja.anderson@saif.se
URL:https://studentidrott.se/event/sista-dagen-att-skicka-in-lok-stods-ansokan-2/
ATTACH;FMTTYPE=image/png:https://media.studentidrott.se/2026/02/Basket-sm-3.png
END:VEVENT
END:VCALENDAR