BEGIN:VCALENDAR
VERSION:2.0
PRODID:-//Sveriges Akademiska Idrottsförbund - ECPv6.15.13.1//NONSGML v1.0//EN
CALSCALE:GREGORIAN
METHOD:PUBLISH
X-ORIGINAL-URL:https://studentidrott.se
X-WR-CALDESC:Händelser för Sveriges Akademiska Idrottsförbund
REFRESH-INTERVAL;VALUE=DURATION:PT1H
X-Robots-Tag:noindex
X-PUBLISHED-TTL:PT1H
BEGIN:VTIMEZONE
TZID:UTC
BEGIN:STANDARD
TZOFFSETFROM:+0000
TZOFFSETTO:+0000
TZNAME:UTC
DTSTART:20250101T000000
END:STANDARD
END:VTIMEZONE
BEGIN:VEVENT
DTSTART;VALUE=DATE:20260604
DTEND;VALUE=DATE:20260608
DTSTAMP:20260423T193650
CREATED:20260219T083824Z
LAST-MODIFIED:20260219T083824Z
UID:8766-1780531200-1780876799@studentidrott.se
SUMMARY:Student-VM i Cheerleading
DESCRIPTION:Student‑VM i cheerleading samlar världens bästa studentidrottare för fyra dagar av tävlingar på internationell toppnivå. I år står Sverige och Göteborg värd för mästerskapet\, då världens främsta universitetslag möts i en spektakulär tävlingshelg fylld av energi\, teknik och laganda. \nArrangemanget är ett samarbete mellan Sveriges Akademiska Idrottsförbund\, Svenska Cheerleading förbundet och Göteborg & Co och samlar studenter ifrån hela världen. Det är första gången sedan 2018 som Sverige står värd för ett internationellt mästerskap inom studentidrotten – ett tillfälle att både lyfta svensk studentidrott och ge våra egna aktiva en chans att tävla på hemmaplan. \n  \nMer information \nOfficiell hemsida för FISU World University Championship Cheerleading – hittar du här \nSvenska Cheerleading förbundets hemsida – hittar du här \nTeam Sweden Cheers Instagramkonto – hittar du här  \nMissa inget som händer inom studentidrotten –Följ oss på Instagram och prenumerera på vårt nyhetsbrev \nÄr du intresserad av SAIF:s tävlingsverksamhet – kontakta adam.stigborn@saif.se
URL:https://studentidrott.se/event/student-vm-i-cheerleading/
LOCATION:Göteborg
ATTACH;FMTTYPE=image/jpeg:https://media.studentidrott.se/2025/02/AM-489-scaled.jpg
END:VEVENT
END:VCALENDAR