BEGIN:VCALENDAR
VERSION:2.0
PRODID:-//Sveriges Akademiska Idrottsförbund - ECPv6.15.13.1//NONSGML v1.0//EN
CALSCALE:GREGORIAN
METHOD:PUBLISH
X-ORIGINAL-URL:https://studentidrott.se
X-WR-CALDESC:Händelser för Sveriges Akademiska Idrottsförbund
REFRESH-INTERVAL;VALUE=DURATION:PT1H
X-Robots-Tag:noindex
X-PUBLISHED-TTL:PT1H
BEGIN:VTIMEZONE
TZID:UTC
BEGIN:STANDARD
TZOFFSETFROM:+0000
TZOFFSETTO:+0000
TZNAME:UTC
DTSTART:20250101T000000
END:STANDARD
END:VTIMEZONE
BEGIN:VEVENT
DTSTART;VALUE=DATE:20260508
DTEND;VALUE=DATE:20260511
DTSTAMP:20260423T181921
CREATED:20260219T081831Z
LAST-MODIFIED:20260219T081831Z
UID:8759-1778198400-1778457599@studentidrott.se
SUMMARY:Student-SM i basket
DESCRIPTION:Student-SM i basket 2026\nPlats: Stockholm\, Lidingö\nDatum: 8-10 maj \nSnart är det dags att avgöra vilka som blir svenska studentmästare i basket 2026! \nHelgen arrangeras av studentidrottsföreningen KTH Basketball Club. Mer information om helgen kommer längre fram.\nVid frågor om eventet\, kontakta KTH Basketball Club via deras instagram.
URL:https://studentidrott.se/event/student-sm-i-basket/
ATTACH;FMTTYPE=image/png:https://media.studentidrott.se/2026/02/Basket-sm.png
END:VEVENT
END:VCALENDAR