BEGIN:VCALENDAR
VERSION:2.0
PRODID:-//Sveriges Akademiska Idrottsförbund - ECPv6.15.13.1//NONSGML v1.0//EN
CALSCALE:GREGORIAN
METHOD:PUBLISH
X-ORIGINAL-URL:https://studentidrott.se
X-WR-CALDESC:Händelser för Sveriges Akademiska Idrottsförbund
REFRESH-INTERVAL;VALUE=DURATION:PT1H
X-Robots-Tag:noindex
X-PUBLISHED-TTL:PT1H
BEGIN:VTIMEZONE
TZID:UTC
BEGIN:STANDARD
TZOFFSETFROM:+0000
TZOFFSETTO:+0000
TZNAME:UTC
DTSTART:20240101T000000
END:STANDARD
END:VTIMEZONE
BEGIN:VEVENT
DTSTART;VALUE=DATE:20250920
DTEND;VALUE=DATE:20250921
DTSTAMP:20260423T234021
CREATED:20250825T063852Z
LAST-MODIFIED:20250919T154305Z
UID:7980-1758326400-1758412799@studentidrott.se
SUMMARY:International Day of University Sport (IDUS) - September
DESCRIPTION:Den 20 september är det dags igen\, International Day of Univerisity Sport är här och det firar vi bäst med rörelse.\nIDUS – som dagen förkortas – är en dag för att uppmärksamma hur Studentidrotten främjar idrott\, fysisk aktivitet och ett hälsosamt liv för studenter. Som ni hör på namnet är detta en dag som firas över hela världen där Studentidrottsrörelsens internationella organ FISU (Fédération Internationale du Sport Universitaire) är drivande. Läs mer om IDUS och se vad som händer runt om i världen på FISU:s sociala medier eller kika in på deras hemsida: International Day of University Sport – FISU \n#LetsIDUS
URL:https://studentidrott.se/event/international-day-of-university-sport-idus-september/
ATTACH;FMTTYPE=image/jpeg:https://media.studentidrott.se/2025/07/En-klapp-for-simframgangar-i-Berlin-scaled-e1753811746246.jpg
END:VEVENT
END:VCALENDAR