BEGIN:VCALENDAR
VERSION:2.0
PRODID:-//Sveriges Akademiska Idrottsförbund - ECPv6.15.13.1//NONSGML v1.0//EN
CALSCALE:GREGORIAN
METHOD:PUBLISH
X-WR-CALNAME:Sveriges Akademiska Idrottsförbund
X-ORIGINAL-URL:https://studentidrott.se
X-WR-CALDESC:Händelser för Sveriges Akademiska Idrottsförbund
REFRESH-INTERVAL;VALUE=DURATION:PT1H
X-Robots-Tag:noindex
X-PUBLISHED-TTL:PT1H
BEGIN:VTIMEZONE
TZID:UTC
BEGIN:STANDARD
TZOFFSETFROM:+0000
TZOFFSETTO:+0000
TZNAME:UTC
DTSTART:20250101T000000
END:STANDARD
END:VTIMEZONE
BEGIN:VEVENT
DTSTART;TZID=UTC:20260312T193000
DTEND;TZID=UTC:20260312T203000
DTSTAMP:20260423T105050
CREATED:20260212T152618Z
LAST-MODIFIED:20260216T081917Z
UID:8730-1773343800-1773347400@studentidrott.se
SUMMARY:Uppland - Upplands Akademiska Idrottsförbunds årsmöte 2026
DESCRIPTION:Studentidrottsföreningar anslutna till Sveriges Akademiska Idrottsförbund och med hemvist i Uppland ingår i distriktet Upplands Akademiska Idrottsförbund (UAIF) och kallas härmed till årsmöte! \nÅrsmötet kommer gå av stapel den 12 mars 2026\, kl. 19:30 på Kalmar nation i Uppsala. \nSåklart kan ni även till detta möte skicka in motioner (förslag från medlemsföreningar) inför detta årsmöte. Det och/eller er förenings anmälan sker genom anmälan till Jens Lindquist. Föreningens registrerade generiska mejladress ska ha fått kallelsen per mejl med alla information som ni behöver. \nHandlingarna till UAIF:s årsmöte kommer att skickas ut till röstberättigade föreningar senast en vecka före mötet – via och till samma mejladress som för förra mejlet. \n  \nHar er förening säte i Uppland men inte fått denna information via mejl – kontakta SAIF:s kontor via maja.andersson@saif.se. \n  \nVet ni inte vilket RF-SISU Distrikt ni tillhör kan ni söka fram er förening via denna sida: Hitta inom idrottsrörelsen – Riksidrottsförbundet
URL:https://studentidrott.se/event/uaif/
LOCATION:Kalmar nation i Uppsala
ATTACH;FMTTYPE=image/png:https://media.studentidrott.se/2025/11/Foreningsutskick-bilder-35-e1764158108303.png
END:VEVENT
END:VCALENDAR