BEGIN:VCALENDAR
VERSION:2.0
PRODID:-//Sveriges Akademiska Idrottsförbund - ECPv6.15.13.1//NONSGML v1.0//EN
CALSCALE:GREGORIAN
METHOD:PUBLISH
X-WR-CALNAME:Sveriges Akademiska Idrottsförbund
X-ORIGINAL-URL:https://studentidrott.se
X-WR-CALDESC:Händelser för Sveriges Akademiska Idrottsförbund
REFRESH-INTERVAL;VALUE=DURATION:PT1H
X-Robots-Tag:noindex
X-PUBLISHED-TTL:PT1H
BEGIN:VTIMEZONE
TZID:UTC
BEGIN:STANDARD
TZOFFSETFROM:+0000
TZOFFSETTO:+0000
TZNAME:UTC
DTSTART:20250101T000000
END:STANDARD
END:VTIMEZONE
BEGIN:VEVENT
DTSTART;TZID=UTC:20260217T000000
DTEND;TZID=UTC:20260217T125000
DTSTAMP:20260423T100350
CREATED:20260116T153002Z
LAST-MODIFIED:20260116T154459Z
UID:8629-1771286400-1771332600@studentidrott.se
SUMMARY:LOK-stödsutbildning 17 februari
DESCRIPTION:LOK-stöd – ansökan\, utbildning och deadline\nDeadline: 25 februari 2026 – Sista dag för inlämning av LOK-stödHur: Via IdrottOnline \nLOK-stöd (statligt lokalt aktivitetsstöd) är ett ekonomiskt stöd som idrottsföreningar kan söka via Riksidrottsförbundet för att stödja föreningsdriven verksamhet för barn\, ungdomar och unga vuxna mellan 6–25 år. Stödet söks i IdrottOnline\, och 25 februari 2026 är sista dag för att skicka in ansökan inför det kommande systemskiftet till Idrottsarenan. \nSe till att era aktiviteter är digitalt närvaroregistrerade och att behöriga i föreningen (ordförande\, kassör eller LOK-stödsansvarig) har koll på processen och deadline så att ansökan blir korrekt och skickas in i tid. \nLunchföreläsning: Sista chansen att bli trygg med LOK-stödsansökan!\n \nDatum: 17 februari 2026\nTid: kl 12:00–12:50\nAnmälan: Följ denna länk \nTa en timme på lunchen för att få en genomgång av hur du ansöker om LOK-stöd i IdrottOnline\, få konkreta tips\, tydliga instruktioner och möjlighet att ställa frågor till utbildare Sara Dutina. Perfekt för dig som är administratör eller LOK-stödsansvarig i föreningen. \nAll utbildning är kostnadsfri och hjälper dig som föreningsledare eller administratör att känna dig tryggare inför ansökningsprocessen. Observera dock att anmälan är bindande och återbud som lämnas efter sista anmälningsdag alternativt att utebli medför att en administrativ avgift om 100kr faktureras deltagaren.
URL:https://studentidrott.se/event/lok-stodsutbildning/
ATTACH;FMTTYPE=image/jpeg:https://media.studentidrott.se/2026/01/AdobeStock_983847585-scaled.jpeg
END:VEVENT
END:VCALENDAR