BEGIN:VCALENDAR
VERSION:2.0
PRODID:-//Sveriges Akademiska Idrottsförbund - ECPv6.15.13.1//NONSGML v1.0//EN
CALSCALE:GREGORIAN
METHOD:PUBLISH
X-WR-CALNAME:Sveriges Akademiska Idrottsförbund
X-ORIGINAL-URL:https://studentidrott.se
X-WR-CALDESC:Händelser för Sveriges Akademiska Idrottsförbund
REFRESH-INTERVAL;VALUE=DURATION:PT1H
X-Robots-Tag:noindex
X-PUBLISHED-TTL:PT1H
BEGIN:VTIMEZONE
TZID:UTC
BEGIN:STANDARD
TZOFFSETFROM:+0000
TZOFFSETTO:+0000
TZNAME:UTC
DTSTART:20240101T000000
END:STANDARD
END:VTIMEZONE
BEGIN:VEVENT
DTSTART;VALUE=DATE:20251002
DTEND;VALUE=DATE:20251005
DTSTAMP:20260424T001730
CREATED:20250220T140437Z
LAST-MODIFIED:20250929T100035Z
UID:6942-1759363200-1759622399@studentidrott.se
SUMMARY:Akademiska spelen 2025 - oktober
DESCRIPTION:Den 2–4 oktober 2025 är det dags igen för den fjärde upplagan av Akademiska Spelen – en händelse som du inte vill missa! Under tre dagar samlas studenter från hela landet i Göteborg för att tävla i olika sporter och delta i sociala aktiviteter. \nAkademiska spelen är Sveriges största multisportevent för studenter\, skapat för att föra samman studenter från hela landet genom idrott och främja gemenskap\, minnen för livet och nätverk utanför campusgränserna. Eventet välkomnar alla universitets- och högskolestudenter i Sverige och äger rum i Göteborg under tre dagar varje höst. Under en intensiv helg kan studenter välja bland fler olika sporter och däribland även flertalet Student-SM.  \nMed tävlingar i allt från fotboll och racketsporter till e-sport och schack\, lockar Akademiska spelen fler deltagare för varje år som går. Tillsammans med projektgruppen strävar vi efter att lyfta studentidrotten och erbjuda en helg med tävlingar som passar alla ambitionsnivåer. Utöver de sportsliga momenten erbjuds sociala event och inte minst den storslagna avslutningsbanketten\, för alla deltagare.  
URL:https://studentidrott.se/event/akademiska-spelen-2025/
LOCATION:Göteborg
ATTACH;FMTTYPE=image/jpeg:https://media.studentidrott.se/2024/10/Image-6.jpg
END:VEVENT
END:VCALENDAR