BEGIN:VCALENDAR
VERSION:2.0
PRODID:-//Sveriges Akademiska Idrottsförbund - ECPv6.15.13.1//NONSGML v1.0//EN
CALSCALE:GREGORIAN
METHOD:PUBLISH
X-WR-CALNAME:Sveriges Akademiska Idrottsförbund
X-ORIGINAL-URL:https://studentidrott.se
X-WR-CALDESC:Händelser för Sveriges Akademiska Idrottsförbund
REFRESH-INTERVAL;VALUE=DURATION:PT1H
X-Robots-Tag:noindex
X-PUBLISHED-TTL:PT1H
BEGIN:VTIMEZONE
TZID:UTC
BEGIN:STANDARD
TZOFFSETFROM:+0000
TZOFFSETTO:+0000
TZNAME:UTC
DTSTART:20250101T000000
END:STANDARD
END:VTIMEZONE
BEGIN:VEVENT
DTSTART;TZID=UTC:20260424T170000
DTEND;TZID=UTC:20260426T170000
DTSTAMP:20260423T093951
CREATED:20260224T123130Z
LAST-MODIFIED:20260224T123130Z
UID:8793-1777050000-1777222800@studentidrott.se
SUMMARY:Student-SM i ridsport
DESCRIPTION:Årets upplaga av Student-SM i ridsport arrangeras 24-26 april 2026. I år är det Linköpingings Akademiska Ridklubb som står för värdskapet. Tävlingen genomförs på Smedstad Ridsportcenter och samlar studenter från universitet och högskolor runt om i landet för att tävla om SM-titlar i ridsport. \nDatum: 24-26 april 2026Plats: Smedstad Ridsportcenter\n \nAnmälan är öppen till och med 24 mars 2026. För att få tävla krävs det att du kan uppvisa grönt kort under tävlingshelgen.\nMer information om helgen – hittar du här
URL:https://studentidrott.se/event/student-sm-i-ridsport-2/
ATTACH;FMTTYPE=image/jpeg:https://media.studentidrott.se/2025/05/DSC03476-Forbattrat-BR-scaled-e1765893658880.jpg
END:VEVENT
END:VCALENDAR